BEGIN:VCALENDAR
VERSION:2.0
PRODID:-//Vereniging Reformatorische getuigenis in het Commerciële Leven - ECPv6.15.20//NONSGML v1.0//EN
CALSCALE:GREGORIAN
METHOD:PUBLISH
X-ORIGINAL-URL:https://vrcl.nl
X-WR-CALDESC:Evenementen voor Vereniging Reformatorische getuigenis in het Commerciële Leven
REFRESH-INTERVAL;VALUE=DURATION:PT1H
X-Robots-Tag:noindex
X-PUBLISHED-TTL:PT1H
BEGIN:VTIMEZONE
TZID:UTC
BEGIN:STANDARD
TZOFFSETFROM:+0000
TZOFFSETTO:+0000
TZNAME:UTC
DTSTART:20250101T000000
END:STANDARD
END:VTIMEZONE
BEGIN:VEVENT
DTSTART;TZID=UTC:20260919T100000
DTEND;TZID=UTC:20260919T200000
DTSTAMP:20260424T101955
CREATED:20260323T145504Z
LAST-MODIFIED:20260323T145556Z
UID:1151-1789812000-1789848000@vrcl.nl
SUMMARY:Familiedag
DESCRIPTION:Meer informatie volgt.
URL:https://vrcl.nl/agenda/familiedag/
CATEGORIES:V.R.C.L. Bijeenkomst
ATTACH;FMTTYPE=image/png:https://vrcl.nl/wp-content/uploads/2026/03/Foto-homepagina.png
END:VEVENT
END:VCALENDAR