BEGIN:VCALENDAR
VERSION:2.0
PRODID:-//Vereniging Reformatorische getuigenis in het Commerciële Leven - ECPv6.15.20//NONSGML v1.0//EN
CALSCALE:GREGORIAN
METHOD:PUBLISH
X-WR-CALNAME:Vereniging Reformatorische getuigenis in het Commerciële Leven
X-ORIGINAL-URL:https://vrcl.nl
X-WR-CALDESC:Evenementen voor Vereniging Reformatorische getuigenis in het Commerciële Leven
REFRESH-INTERVAL;VALUE=DURATION:PT1H
X-Robots-Tag:noindex
X-PUBLISHED-TTL:PT1H
BEGIN:VTIMEZONE
TZID:UTC
BEGIN:STANDARD
TZOFFSETFROM:+0000
TZOFFSETTO:+0000
TZNAME:UTC
DTSTART:20250101T000000
END:STANDARD
END:VTIMEZONE
BEGIN:VEVENT
DTSTART;TZID=UTC:20260604T100000
DTEND;TZID=UTC:20260604T210000
DTSTAMP:20260425T105524
CREATED:20260323T145109Z
LAST-MODIFIED:20260403T134627Z
UID:1147-1780567200-1780606800@vrcl.nl
SUMMARY:Ontmoetingsdag
DESCRIPTION:SAVE – THE – DATE \nZet alvast in uw agenda!\nDonderdag 4 juni staat onze jaarlijkse Ontmoetingsdag gepland. \n\n\nOm 10.00 uur heten we u van harte welkom in de hervormde kerk van Otterlo (Kerklaan 8)\, waar we de dag zullen openen met een meditatief en muzikaal programma. Aansluitend vertrekken we naar Nationaal Park De Hoge Veluwe waar u kunt kiezen uit diverse leuke activiteiten. Ga bijvoorbeeld zelf paarden mennen\, maak een ontspannen fietstocht of ontdek de omgeving tijdens een rondleiding met een gids. \n\n\nWe sluiten deze mooie dag af bij Bistro Beaune in Rozendaal\, waar we samen genieten van een heerlijk diner. \n\nHet belooft een dag vol ontspanning en ontmoeting te worden.\nMeer informatie en aanmelden
URL:https://vrcl.nl/agenda/ontmoetingsdag/
LOCATION:Kerklaan 8\, Otterlo\, Kerklaan 8\, Otterlo\, 6731 BB
CATEGORIES:V.R.C.L. Bijeenkomst
ATTACH;FMTTYPE=image/jpeg:https://vrcl.nl/wp-content/uploads/2026/03/Hoge-Veluwe.jpg
END:VEVENT
BEGIN:VEVENT
DTSTART;TZID=UTC:20260416T160000
DTEND;TZID=UTC:20260416T210000
DTSTAMP:20260425T105524
CREATED:20260306T144147Z
LAST-MODIFIED:20260330T205111Z
UID:564-1776355200-1776373200@vrcl.nl
SUMMARY:Ledenvergadering met bedrijfsbezoek
DESCRIPTION:Ledenvergadering met bedrijfsbezoek aan Babypark Kesteren. \nMeer informatie en aanmelden
URL:https://vrcl.nl/agenda/ledenvergadering-met-bedrijfsbezoek/
LOCATION:Babypark Kesteren\, Batterijenweg 19\, Kesteren\, 4041 DA\, Netherlands
CATEGORIES:V.R.C.L. Bijeenkomst
ATTACH;FMTTYPE=image/jpeg:https://vrcl.nl/wp-content/uploads/2026/03/Babypark-Kesteren-Legemaat-Buiteninrichting-1-scaled-1.jpg
END:VEVENT
BEGIN:VEVENT
DTSTART;TZID=UTC:20260317T150000
DTEND;TZID=UTC:20260317T210000
DTSTAMP:20260425T105524
CREATED:20260306T114358Z
LAST-MODIFIED:20260309T222646Z
UID:515-1773759600-1773781200@vrcl.nl
SUMMARY:Voorjaarsbijeenkomst
DESCRIPTION:Op D.V. 17 maart 2026 staat onze volgende bijeenkomst gepland. Een bijeenkomst met een bijzonder thema: ‘Vervolgde christenen wereldwijd\, wat heeft dat ons te zeggen?’\nWereldwijd zijn 388 miljoen christenen niet vrij om in Jezus Christus te geloven. Ze worden achtergesteld\, gevangengezet of zelfs gedood. Dat wij in Nederland ons christelijk geloof nog vrij kunnen belijden is geen vanzelfsprekendheid. Voor de bijeenkomst van 17 maart is er zorgvuldig een viertal sprekers geselecteerd die ons meer gaan vertellen over de vervolgde kerk wereldwijd en met ons nadenken over welke toekomst wij als christenen in Nederland hebben.\nWe zijn deze bijeenkomst te gast in het bezoekerscentrum van Open Doors. \nMeer informatie en aanmelden.
URL:https://vrcl.nl/agenda/voorjaarsbijeenkomst/
LOCATION:Open Doors\, Hardewijkerweg 136\, Ermelo\, 3852 AH\, Netherlands
CATEGORIES:V.R.C.L. Bijeenkomst
ATTACH;FMTTYPE=image/jpeg:https://vrcl.nl/wp-content/uploads/2026/03/Open-Doors.jpg
END:VEVENT
END:VCALENDAR