BEGIN:VCALENDAR
VERSION:2.0
PRODID:-//Vereniging Reformatorische getuigenis in het Commerciële Leven - ECPv6.15.20//NONSGML v1.0//EN
CALSCALE:GREGORIAN
METHOD:PUBLISH
X-ORIGINAL-URL:https://vrcl.nl
X-WR-CALDESC:Evenementen voor Vereniging Reformatorische getuigenis in het Commerciële Leven
REFRESH-INTERVAL;VALUE=DURATION:PT1H
X-Robots-Tag:noindex
X-PUBLISHED-TTL:PT1H
BEGIN:VTIMEZONE
TZID:UTC
BEGIN:STANDARD
TZOFFSETFROM:+0000
TZOFFSETTO:+0000
TZNAME:UTC
DTSTART:20250101T000000
END:STANDARD
END:VTIMEZONE
BEGIN:VEVENT
DTSTART;TZID=UTC:20261027T160000
DTEND;TZID=UTC:20261027T210000
DTSTAMP:20260425T105724
CREATED:20260323T145657Z
LAST-MODIFIED:20260323T145657Z
UID:1154-1793116800-1793134800@vrcl.nl
SUMMARY:Ledenvergadering
DESCRIPTION:Meer informatie volgt.
URL:https://vrcl.nl/agenda/ledenvergadering/
CATEGORIES:V.R.C.L. Bijeenkomst
ATTACH;FMTTYPE=image/png:https://vrcl.nl/wp-content/uploads/2026/03/Diner.png
END:VEVENT
BEGIN:VEVENT
DTSTART;TZID=UTC:20270114T160000
DTEND;TZID=UTC:20270114T210000
DTSTAMP:20260425T105724
CREATED:20260323T145759Z
LAST-MODIFIED:20260323T145759Z
UID:1156-1799942400-1799960400@vrcl.nl
SUMMARY:Nieuwjaarsbijeenkomst 2027
DESCRIPTION:Meer informatie volgt.
URL:https://vrcl.nl/agenda/nieuwjaarsbijeenkomst-2027/
CATEGORIES:V.R.C.L. Bijeenkomst
ATTACH;FMTTYPE=image/png:https://vrcl.nl/wp-content/uploads/2026/03/Diner.png
END:VEVENT
END:VCALENDAR